BEGIN:VCALENDAR
PRODID:-//AT Content Types//AT Event//EN
VERSION:2.0
METHOD:PUBLISH
BEGIN:VEVENT
DTSTAMP:20260422T085630Z
CREATED:20250221T171001Z
UID:ATEvent-24d530d40f924d88951dd6968a68450c
LAST-MODIFIED:20250312T153951Z
SUMMARY:Public Consultation Event
DTSTART:20250320T160000Z
DTEND:20250320T190000Z
DESCRIPTION:Consultation Event to be held on 20th March from 4pm to 7
 pm at The Dunholme Old School Community Centre\, Market Rasen Road\, 
 Dunholme\, LN2 3QR
CLASS:PUBLIC
END:VEVENT
END:VCALENDAR
