BEGIN:VCALENDAR
PRODID:-//AT Content Types//AT Event//EN
VERSION:2.0
METHOD:PUBLISH
BEGIN:VEVENT
DTSTAMP:20260421T104339Z
CREATED:20250221T160917Z
UID:ATEvent-cc92356b4b3e475a9cdc8f2effa2f0e1
LAST-MODIFIED:20250512T100756Z
SUMMARY:Public Consultation Event
DTSTART:20250522T150000Z
DTEND:20250522T180000Z
DESCRIPTION:Consultation Event to be held on 22nd May 2025 from 4pm to
  7pm at Berry Hill Memorial Hall\, Park Rd\, Berry Hill\, Coleford, G
 L16 7QU
CLASS:PUBLIC
END:VEVENT
END:VCALENDAR
