BEGIN:VCALENDAR
PRODID:-//AT Content Types//AT Event//EN
VERSION:2.0
METHOD:PUBLISH
BEGIN:VEVENT
DTSTAMP:20260423T221550Z
CREATED:20240627T085418Z
UID:ATEvent-adcd56b2a4094f62b505b870079086b6
LAST-MODIFIED:20240716T102319Z
SUMMARY:Public Consultation Event
DTSTART:20240718T150000Z
DTEND:20240718T180000Z
DESCRIPTION:Consultation Event to be held on Thursday 18th July 4-7pm\
 , Beckwithshaw Village Hall\, Church Row\, Beckwithshaw\, Harrogate HG
 3 1QW
CLASS:PUBLIC
END:VEVENT
END:VCALENDAR
