BEGIN:VCALENDAR
PRODID:-//AT Content Types//AT Event//EN
VERSION:2.0
METHOD:PUBLISH
BEGIN:VEVENT
DTSTAMP:20260421T103324Z
CREATED:20250213T163321Z
UID:ATEvent-fad528b6f0be4706b44200a9aea82546
LAST-MODIFIED:20250429T155947Z
SUMMARY:Public Consultation Event
DTSTART:20250514T150000Z
DTEND:20250514T180000Z
DESCRIPTION:Consultation Event to be held on 14th May 2025 from 4pm to
  7pm at Cadney Church Hall, Vicarage Lane Cadney\, Brigg, DN20 9HS
CLASS:PUBLIC
END:VEVENT
END:VCALENDAR
