BEGIN:VCALENDAR
PRODID:-//AT Content Types//AT Event//EN
VERSION:2.0
METHOD:PUBLISH
BEGIN:VEVENT
DTSTAMP:20260422T140212Z
CREATED:20251222T153929Z
UID:ATEvent-f65752c0fc5f4808aeb436f3ced89add
LAST-MODIFIED:20260311T090444Z
SUMMARY:Public Consultation Event
DTSTART:20260323T160000Z
DTEND:20260323T180000Z
DESCRIPTION:Consultation Event to be held on 23 March 2026 from 4pm to
  7pm at Winlaton Centre North St\, Winlaton\, Blaydon NE21 6BY
CLASS:PUBLIC
END:VEVENT
END:VCALENDAR
